BEGIN:VCALENDAR
VERSION:2.0
PRODID:-//POLYRISK - ECPv6.15.20//NONSGML v1.0//EN
CALSCALE:GREGORIAN
METHOD:PUBLISH
X-ORIGINAL-URL:https://polyrisk.science
X-WR-CALDESC:Events for POLYRISK
REFRESH-INTERVAL;VALUE=DURATION:PT1H
X-Robots-Tag:noindex
X-PUBLISHED-TTL:PT1H
BEGIN:VTIMEZONE
TZID:Europe/Berlin
BEGIN:DAYLIGHT
TZOFFSETFROM:+0100
TZOFFSETTO:+0200
TZNAME:CEST
DTSTART:20230326T010000
END:DAYLIGHT
BEGIN:STANDARD
TZOFFSETFROM:+0200
TZOFFSETTO:+0100
TZNAME:CET
DTSTART:20231029T010000
END:STANDARD
BEGIN:DAYLIGHT
TZOFFSETFROM:+0100
TZOFFSETTO:+0200
TZNAME:CEST
DTSTART:20240331T010000
END:DAYLIGHT
BEGIN:STANDARD
TZOFFSETFROM:+0200
TZOFFSETTO:+0100
TZNAME:CET
DTSTART:20241027T010000
END:STANDARD
BEGIN:DAYLIGHT
TZOFFSETFROM:+0100
TZOFFSETTO:+0200
TZNAME:CEST
DTSTART:20250330T010000
END:DAYLIGHT
BEGIN:STANDARD
TZOFFSETFROM:+0200
TZOFFSETTO:+0100
TZNAME:CET
DTSTART:20251026T010000
END:STANDARD
END:VTIMEZONE
BEGIN:VEVENT
DTSTART;VALUE=DATE:20240505
DTEND;VALUE=DATE:20240510
DTSTAMP:20260425T183513
CREATED:20240119T142911Z
LAST-MODIFIED:20240119T142911Z
UID:2435-1714867200-1715299199@polyrisk.science
SUMMARY:Science-Based Solutions in Times of Crisis: Integrating Science and Policy for Environmental Challenges (SETAC Europe annual meeting)
DESCRIPTION:Click here for more information about this event.
URL:https://polyrisk.science/event/science-based-solutions-in-times-of-crisis-integrating-science-and-policy-for-environmental-challenges-setac-europe-annual-meeting/
LOCATION:Seville\, Spain
END:VEVENT
END:VCALENDAR